BEGIN:VCALENDAR
VERSION:2.0
PRODID:-//Sabre//Sabre VObject 4.5.0//EN
CALSCALE:GREGORIAN
BEGIN:VEVENT
UID:sabre-vobject-4e28e394-646e-4b74-8261-f087e0a2e8f6
DTSTAMP:20260421T011353Z
LOCATION:pl. Uniwersytecki 1\, ul. Cybulskiego 30
SUMMARY:Dzień Otwarty Wydziału Nauk o Ziemi i Kształtowania Środowiska
DESCRIPTION:Serdecznie zapraszamy na Dzień Ziemi na Uniwersytecie Wrocław
 skim\, czyli Dzień Otwarty Wydziału Nauk o Ziemi i Kształtowania Środo
 wiska pod hasłem „Ziemia to dopiero początek”. Moc atrakcji i inform
 acji o studiach na naszym Wydziale!
DTSTART;VALUE=DATE-TIME:20250424T070000Z
DTEND;VALUE=DATE-TIME:20250424T130000Z
END:VEVENT
END:VCALENDAR
