BEGIN:VCALENDAR
VERSION:2.0
PRODID:-//Sabre//Sabre VObject 4.5.0//EN
CALSCALE:GREGORIAN
BEGIN:VEVENT
UID:sabre-vobject-d87bc341-0c1a-45ad-85be-07e12bbc3614
DTSTAMP:20260421T011509Z
LOCATION:Biblioteka Instytutu Geografii i Rozwoju Regionalnego (pl. Uniwers
 ytecki 1\, II piętro)
SUMMARY:„Bezpieczeństwo żywnościowe w mieście” – debata otwarta
DESCRIPTION:Serdecznie zapraszamy 11 kwietnia o godz. 16:30 do Biblioteki I
 nstytutu Geografii i Rozwoju Regionalnego (pl. Uniwersytecki 1\, II p.) na
  otwartą debatę pt. „Bezpieczeństwo żywnościowe w mieście”.
DTSTART;VALUE=DATE-TIME:20250411T143000Z
DTEND;VALUE=DATE-TIME:20250411T163000Z
END:VEVENT
END:VCALENDAR
