BEGIN:VCALENDAR
VERSION:2.0
PRODID:-//Sabre//Sabre VObject 4.5.0//EN
CALSCALE:GREGORIAN
BEGIN:VEVENT
UID:sabre-vobject-b488cf6f-1276-4c6e-bac7-13fb1cf15dbd
DTSTAMP:20260420T233559Z
LOCATION:ul. Kuźnicza 49/55\, s. 321
SUMMARY:Prelekcja PTG &#8222\;Svalbardzkie laguny – laboratorium zmian kl
 imatycznych na krańcu świata&#8221\;
DESCRIPTION:Prelekcja PTG "Svalbardzkie laguny – laboratorium zmian klima
 tycznych na krańcu świata"
DTSTART;VALUE=DATE-TIME:20250411T130000Z
DTEND;VALUE=DATE-TIME:20250411T150000Z
END:VEVENT
END:VCALENDAR
