BEGIN:VCALENDAR
VERSION:2.0
PRODID:-//Sabre//Sabre VObject 4.5.0//EN
CALSCALE:GREGORIAN
BEGIN:VEVENT
UID:sabre-vobject-04890c11-2151-4e63-8e62-f12d19a4b131
DTSTAMP:20260420T233553Z
LOCATION:Biblioteka IGRR\, Gmach Główny UWr (II piętro) - pl. Uniwersyte
 cki 1
SUMMARY:Warsztaty &#8222\;Geoekspres maturalny&#8221\;
DESCRIPTION:"Geoekspres maturalny" - stacjonarne warsztaty z geografii przy
 gotowujące do matury
DTSTART;VALUE=DATE-TIME:20250416T130000Z
DTEND;VALUE=DATE-TIME:20250416T160000Z
END:VEVENT
END:VCALENDAR
