BEGIN:VCALENDAR
VERSION:2.0
PRODID:-//Sabre//Sabre VObject 4.5.0//EN
CALSCALE:GREGORIAN
BEGIN:VEVENT
UID:sabre-vobject-d4d23610-dbcd-49ba-b766-de4dc63f6486
DTSTAMP:20260420T233548Z
LOCATION:Centrum Badań Regionów Zimnych im. Alfreda Jahna (ul. Fryderyka 
 Joliot-Curie 12\, 50-383 Wrocław)
SUMMARY:Wykłady otwarte w ramach programu IDUB
DESCRIPTION:Wykłady otwarte w ramach programu IDUB - Prof. Jef Vandenbergh
 e (Vrije Universiteit Amsterdam)\, Prof. Mateusz Strzelecki (Uniwersytet W
 rocławski)\, PhD Stephen Wolfe (National Resources Canada).
DTSTART;VALUE=DATE-TIME:20250423T100000Z
DTEND;VALUE=DATE-TIME:20250423T120000Z
END:VEVENT
END:VCALENDAR
