BEGIN:VCALENDAR
VERSION:2.0
PRODID:-//Sabre//Sabre VObject 4.5.0//EN
CALSCALE:GREGORIAN
BEGIN:VEVENT
UID:sabre-vobject-300b58a8-cccb-4be9-86be-a7e1777091ab
DTSTAMP:20260421T011354Z
LOCATION:pl. Uniwersytecki 1\, s. 332 (Instytut Geografii i Rozwoju Regiona
 lnego\, III piętro)
SUMMARY:Wykład otwarty &#8222\;Rural Transformation and Revitalization in 
 China&#8221\;
DESCRIPTION:Wykład otwarty prof. Yuheng Li - "Rural Transformation and Rev
 italization in China"
DTSTART;VALUE=DATE-TIME:20250512T073000Z
DTEND;VALUE=DATE-TIME:20250512T093000Z
END:VEVENT
END:VCALENDAR
