BEGIN:VCALENDAR
VERSION:2.0
PRODID:-//Sabre//Sabre VObject 4.5.0//EN
CALSCALE:GREGORIAN
BEGIN:VEVENT
UID:sabre-vobject-32ddef64-01ef-4336-bf5a-f642f6c9a27b
DTSTAMP:20260420T233438Z
LOCATION:ul. Uniwersytecka 7\, 50-145 Wrocław\, Wydział Prawa\, Administr
 acji i Ekonomii Uniwersytetu Wrocławskiego\, budynek D\, Sala 2D im. Wito
 lda Świdy
SUMMARY:Nie tylko Mount Everest. Góry świata Leszka Cichego &#8211\; prel
 ekcja publiczna
DESCRIPTION:W związku z jubileuszem 80-lecia Wrocławskiej Geografii pod h
 asłem „Łączymy tradycję z nowoczesnością” zapraszamy na prelekcj
 ę publiczną „Nie tylko Mount Everest. Góry świata Leszka Cichego”
DTSTART;VALUE=DATE-TIME:20251107T160000Z
DTEND;VALUE=DATE-TIME:20251107T180000Z
END:VEVENT
END:VCALENDAR
