BEGIN:VCALENDAR
VERSION:2.0
PRODID:-//Sabre//Sabre VObject 4.5.0//EN
CALSCALE:GREGORIAN
BEGIN:VEVENT
UID:sabre-vobject-e9ceddba-a760-4b1c-b473-96b5f58046a9
DTSTAMP:20260420T233532Z
LOCATION:Kampus UWr przy Borna: ul. Cybulskiego 30-34\, Wrocław
SUMMARY:Dzień Krajobrazu i Dzień Georóżnorodności na Kampusie przy ul.
  Borna
DESCRIPTION:Serdecznie zapraszamy na trzecią edycję obchodów Dnia Krajob
 razu i Dnia Georóżnorodności na Kampusie przy Borna. Hasło przewodnie 
 tegorocznego wydarzenia to “SYMBIOZA – Przyroda i Miasto w jednym Kraj
 obrazie”.
DTSTART;VALUE=DATE-TIME:20251017T080000Z
DTEND;VALUE=DATE-TIME:20251017T120000Z
END:VEVENT
END:VCALENDAR
