BEGIN:VCALENDAR
VERSION:2.0
PRODID:-//Sabre//Sabre VObject 4.5.0//EN
CALSCALE:GREGORIAN
BEGIN:VEVENT
UID:sabre-vobject-b8cdd59b-962b-4bd1-9ce6-f219b0623b86
DTSTAMP:20260421T011506Z
LOCATION:s. 336 Instytutu Geografii i Rozwoju Regionalnego\, Gmach Główny
  UWr\, pl. Uniwersytecki 1\, Wrocław.
SUMMARY:Drzwi Otwarte w IGRR &#8211\; 18 października 2025
DESCRIPTION:Drzwi Otwarte Instytutu Geografii i Regionalnego UWr - spotkani
 a z prowadzącymi\, rozmowy o studiach\, zwiedzanie sal dydaktycznych i la
 boratoriów.
DTSTART;VALUE=DATE-TIME:20251018T100000Z
DTEND;VALUE=DATE-TIME:20251018T120000Z
END:VEVENT
END:VCALENDAR
