BEGIN:VCALENDAR
VERSION:2.0
PRODID:-//Sabre//Sabre VObject 4.5.0//EN
CALSCALE:GREGORIAN
BEGIN:VEVENT
UID:sabre-vobject-bee2aacf-94c8-4d93-9db4-0332e430ecad
DTSTAMP:20260421T011507Z
LOCATION:Góry Bardzkie
SUMMARY:Wycieczka krajoznawcza z dyrekcją IGRR
DESCRIPTION:Z okazji jubileuszu 80-lecia Wrocławskiej Geografii zapraszamy
  na wycieczkę krajoznawczą w Góry Bardzkie\, którą poprowadzi Dyrekto
 r IGRR – a jednocześnie przewodnik sudecki – dr hab. Robert Szmytkie\
 , prof. UWr. W planie wycieczki przewidujemy wejście na wieżę widokową
  na Kłodzkiej Górze z epicką panoramą Sudetów oraz piknik. Wyjazd z W
 rocławia pociągiem o godzinie 8:06\, powrót z Kłodzka Miasta 16:52 lub
  później.
DTSTART;VALUE=DATE:20251108
DTEND;VALUE=DATE:20251109
END:VEVENT
END:VCALENDAR
