BEGIN:VCALENDAR
VERSION:2.0
PRODID:-//Sabre//Sabre VObject 4.5.0//EN
CALSCALE:GREGORIAN
BEGIN:VEVENT
UID:sabre-vobject-d41270e0-eb7f-4e13-b527-9666cc9da13c
DTSTAMP:20260420T233429Z
LOCATION:Oratorium Marianum\, Gmach Główny UWr\, pl. Uniwersytecki 1 50-1
 37 Wrocław
SUMMARY:80 LAT WROCŁAWSKIEJ GEOGRAFII &#8222\;Łączymy tradycję z nowocz
 esnością&#8221\;
DESCRIPTION:Serdecznie zapraszamy sympatyków geografii na udział w wydarz
 eniach związanych z jubileuszem 80-lecia Wrocławskiej Geografii pod has
 łem „Łączymy tradycję z nowoczesnością”
DTSTART;VALUE=DATE-TIME:20251107T090000Z
DTEND;VALUE=DATE-TIME:20251107T120000Z
END:VEVENT
END:VCALENDAR
