BEGIN:VCALENDAR
VERSION:2.0
PRODID:-//Sabre//Sabre VObject 4.5.0//EN
CALSCALE:GREGORIAN
BEGIN:VEVENT
UID:sabre-vobject-e9e542c0-7315-4f7e-ab65-8d00386a324c
DTSTAMP:20260421T011508Z
LOCATION:s. 336\, Pl. Uniwersytecki 1\, Uniwersytet Wrocławski
SUMMARY:Przegląd Polskich Filmów Polarnych
DESCRIPTION:
DTSTART;VALUE=DATE-TIME:20251121T140000Z
DTEND;VALUE=DATE-TIME:20251121T190000Z
END:VEVENT
END:VCALENDAR
