BEGIN:VCALENDAR
VERSION:2.0
PRODID:-//Sabre//Sabre VObject 4.5.0//EN
CALSCALE:GREGORIAN
BEGIN:VEVENT
UID:sabre-vobject-5b34fde2-d843-48bc-a44b-69af6be87ae5
DTSTAMP:20260420T233432Z
LOCATION:s. 321 ul. Kuźnicza 49/55\, Uniwersytet Wrocławski
SUMMARY:Prelekcja &#8222\;Bogactwo przyrodnicze i kulturowe Malty&#8221\;
DESCRIPTION:
DTSTART;VALUE=DATE-TIME:20251114T140000Z
DTEND;VALUE=DATE-TIME:20251114T163000Z
END:VEVENT
END:VCALENDAR
