BEGIN:VCALENDAR
VERSION:2.0
PRODID:-//Sabre//Sabre VObject 4.5.0//EN
CALSCALE:GREGORIAN
BEGIN:VEVENT
UID:sabre-vobject-dc671562-8956-426d-82f0-60cd00cdab74
DTSTAMP:20260420T233543Z
LOCATION:Sala konferencyjna nr 3\, Biblioteka Uniwersytecka (ul. Fryderyka 
 Joliot-Curie 12\, Wrocław)
SUMMARY:XII Wrocławski GISday
DESCRIPTION:Sesje wykładowe z okazji wydarzenia XII Wrocławski GISday
DTSTART;VALUE=DATE-TIME:20251119T090000Z
DTEND;VALUE=DATE-TIME:20251119T140000Z
END:VEVENT
END:VCALENDAR
