BEGIN:VCALENDAR
VERSION:2.0
PRODID:-//Sabre//Sabre VObject 4.5.0//EN
CALSCALE:GREGORIAN
BEGIN:VEVENT
UID:sabre-vobject-b57ea0e7-53b9-4ecb-96a6-2be881e38f70
DTSTAMP:20260421T011349Z
LOCATION:sala 3D im. A. Mycielskiego\, Wydział Prawa Administracji i Ekono
 mii\, Uniwersytet Wrocławski\, ul. Uniwersytecka 7
SUMMARY:Nauka na Fali &#8211\; GeoArctic Expedition 2025
DESCRIPTION:Spotkanie z cyklu Nauka na Fali poświęcone wyprawie GeoArctic
  Expedition 2025
DTSTART;VALUE=DATE-TIME:20251205T100000Z
DTEND;VALUE=DATE-TIME:20251205T120000Z
END:VEVENT
END:VCALENDAR
