BEGIN:VCALENDAR
VERSION:2.0
PRODID:-//Sabre//Sabre VObject 4.5.0//EN
CALSCALE:GREGORIAN
BEGIN:VEVENT
UID:sabre-vobject-4c6ef87f-63ba-4be0-8f36-8f0dc30ce33d
DTSTAMP:20260421T011352Z
LOCATION:Biblioteka Uniwersytetu Wrocławskiego\, Fryderyka Joliot-Curie 12
 \, Wrocław
SUMMARY:Seminarium Odrzańskie II
DESCRIPTION:Zapraszamy na II edycję Seminarium Odrzańskiego pn. „Międz
 y ochroną a użytkowaniem: wyzwania dla planowania przestrzennego\, polit
 yki wodnej i ochrony przyrody w dorzeczu Odry”.
DTSTART;VALUE=DATE-TIME:20260129T123000Z
DTEND;VALUE=DATE-TIME:20260129T143000Z
END:VEVENT
END:VCALENDAR
