BEGIN:VCALENDAR
VERSION:2.0
PRODID:-//Sabre//Sabre VObject 4.5.0//EN
CALSCALE:GREGORIAN
BEGIN:VEVENT
UID:sabre-vobject-941b0e76-cfe8-4f0d-ae35-3c3cdbb3ae78
DTSTAMP:20260420T233605Z
LOCATION:s. 336\, Pl. Uniwersytecki 1\, Uniwersytet Wrocławski
SUMMARY:Prelekcja &#8222\;Nie tylko Adriatyk – przyrodnicze skarby interi
 oru Chorwacji&#8221\;
DESCRIPTION:
DTSTART;VALUE=DATE-TIME:20260123T140000Z
DTEND;VALUE=DATE-TIME:20260123T163000Z
END:VEVENT
END:VCALENDAR
