BEGIN:VCALENDAR
VERSION:2.0
PRODID:-//Sabre//Sabre VObject 4.5.0//EN
CALSCALE:GREGORIAN
BEGIN:VEVENT
UID:sabre-vobject-8ec48910-93b3-48d1-9600-b00c36c4f7f4
DTSTAMP:20260420T213751Z
LOCATION:s. 336\, Pl. Uniwersytecki 1\, Uniwersytet Wrocławski
SUMMARY:V. Tydzień Olimpijski
DESCRIPTION:
DTSTART;VALUE=DATE-TIME:20260123T090000Z
DTEND;VALUE=DATE-TIME:20260123T140000Z
END:VEVENT
END:VCALENDAR
