BEGIN:VCALENDAR
VERSION:2.0
PRODID:-//Sabre//Sabre VObject 4.5.0//EN
CALSCALE:GREGORIAN
BEGIN:VEVENT
UID:sabre-vobject-6989b7be-dfa2-4d4b-8225-512f1e243b96
DTSTAMP:20260420T233618Z
LOCATION:s. 336\, Gmach Główny UWr\, Pl. Uniwersytecki 1\, Wrocław
SUMMARY:Koncepcje ochrony przed powodzią dla miast Głuchołazy\, Stronie 
 Śląskie i Lądek-Zdrój oraz Bystrzyca Kłodzka i Kłodzko &#8211\; prel
 ekcja
DESCRIPTION:Zapraszamy do aktywnego udziału w wydarzeniu z cyklu: LUDZIE I
  ŚRODOWISKO – SPOTKANIA GEOGRAFICZNE. Prelekcję Koncepcje ochrony prze
 d powodzią dla miast Głuchołazy\, Stronie Śląskie i Lądek-Zdrój ora
 z Bystrzyca Kłodzka i Kłodzko wygłosi dr hab. Józef Sawicki\, emeryt. 
 prof. Wydziału Geoinżynierii\, Górnictwa i Geologii PWr.
DTSTART;VALUE=DATE-TIME:20260206T121500Z
DTEND;VALUE=DATE-TIME:20260206T143000Z
END:VEVENT
END:VCALENDAR
