BEGIN:VCALENDAR
VERSION:2.0
PRODID:-//Sabre//Sabre VObject 4.5.0//EN
CALSCALE:GREGORIAN
BEGIN:VEVENT
UID:sabre-vobject-68ca10ef-a52c-4759-988d-6cadf221fa53
DTSTAMP:20260420T215149Z
LOCATION:s. 336\, Pl. Uniwersytecki 1\, Uniwersytet Wrocławski
SUMMARY:Prelekcja &#8222\;Baśniowa Dolina Baryczy. Od niesamowitej przyrod
 y po świat zabytków i legend&#8221\;
DESCRIPTION:
DTSTART;VALUE=DATE-TIME:20260313T140000Z
DTEND;VALUE=DATE-TIME:20260313T163000Z
END:VEVENT
END:VCALENDAR
