BEGIN:VCALENDAR
VERSION:2.0
PRODID:-//Sabre//Sabre VObject 4.5.0//EN
CALSCALE:GREGORIAN
BEGIN:VEVENT
UID:sabre-vobject-d61168e9-ea09-48ae-8e77-c7756f66d918
DTSTAMP:20260420T181116Z
LOCATION:start: ul. Uniwersytecka 7 (Budynek WPAiE s. 2D)\, dalsze wydarzen
 ia: pl. Uniwersytecki 1\, ul. Cybulskiego 30
SUMMARY:Geofakt\, nie fake – Dzień Ziemi na Uniwersytecie Wrocławskim 
 – Drzwi Otwarte
DESCRIPTION:Serdecznie zapraszamy na wydarzenie "Geofakt\, nie fake" – Dz
 ień Ziemi na Uniwersytecie Wrocławskim
DTSTART;VALUE=DATE-TIME:20260422T080000Z
DTEND;VALUE=DATE-TIME:20260422T130000Z
END:VEVENT
END:VCALENDAR
