BEGIN:VCALENDAR
VERSION:2.0
PRODID:-//Sabre//Sabre VObject 4.5.0//EN
CALSCALE:GREGORIAN
BEGIN:VEVENT
UID:sabre-vobject-5b5f08de-1e4e-43f8-aac7-8208bccf1026
DTSTAMP:20260420T213425Z
LOCATION:s. 336\, Pl. Uniwersytecki 1\, Uniwersytet Wrocławski
SUMMARY:Prelekcja &#8222\;Nepal – od lasów monsunowych Teraju po lodowce
  Himalajów&#8221\;
DESCRIPTION:
DTSTART;VALUE=DATE-TIME:20260417T130000Z
DTEND;VALUE=DATE-TIME:20260417T153000Z
END:VEVENT
END:VCALENDAR
