BEGIN:VCALENDAR
VERSION:2.0
PRODID:-//Sabre//Sabre VObject 4.5.0//EN
CALSCALE:GREGORIAN
BEGIN:VEVENT
UID:sabre-vobject-ba0d8d86-88c0-4afc-b550-396d6d935d73
DTSTAMP:20260420T181118Z
LOCATION:Centrum Badań Regionów Zimnych (BUWr\, ul. F. Joliot-Curie 12\, 
 50-383 Wrocław)
SUMMARY:Wykład prof. Stephena Wolfe w ramach projektu IDUB – 21 kwietnia
DESCRIPTION:
DTSTART;VALUE=DATE-TIME:20260421T120000Z
DTEND;VALUE=DATE-TIME:20260421T133000Z
END:VEVENT
END:VCALENDAR
